BEGIN:VCALENDAR
VERSION:2.0
PRODID:-//Yoga Flow Lifestyle Center - ECPv6.15.20//NONSGML v1.0//EN
CALSCALE:GREGORIAN
METHOD:PUBLISH
X-WR-CALNAME:Yoga Flow Lifestyle Center
X-ORIGINAL-URL:https://www.yogaflowlifestyle.com
X-WR-CALDESC:Events for Yoga Flow Lifestyle Center
REFRESH-INTERVAL;VALUE=DURATION:PT1H
X-Robots-Tag:noindex
X-PUBLISHED-TTL:PT1H
BEGIN:VTIMEZONE
TZID:America/New_York
BEGIN:DAYLIGHT
TZOFFSETFROM:-0500
TZOFFSETTO:-0400
TZNAME:EDT
DTSTART:20150308T070000
END:DAYLIGHT
BEGIN:STANDARD
TZOFFSETFROM:-0400
TZOFFSETTO:-0500
TZNAME:EST
DTSTART:20151101T060000
END:STANDARD
BEGIN:DAYLIGHT
TZOFFSETFROM:-0500
TZOFFSETTO:-0400
TZNAME:EDT
DTSTART:20160313T070000
END:DAYLIGHT
BEGIN:STANDARD
TZOFFSETFROM:-0400
TZOFFSETTO:-0500
TZNAME:EST
DTSTART:20161106T060000
END:STANDARD
BEGIN:DAYLIGHT
TZOFFSETFROM:-0500
TZOFFSETTO:-0400
TZNAME:EDT
DTSTART:20170312T070000
END:DAYLIGHT
BEGIN:STANDARD
TZOFFSETFROM:-0400
TZOFFSETTO:-0500
TZNAME:EST
DTSTART:20171105T060000
END:STANDARD
END:VTIMEZONE
BEGIN:VEVENT
DTSTART;TZID=America/New_York:20161013T190000
DTEND;TZID=America/New_York:20161013T203000
DTSTAMP:20260419T125843
CREATED:20160715T142032Z
LAST-MODIFIED:20160802T141326Z
UID:1103-1476385200-1476390600@www.yogaflowlifestyle.com
SUMMARY:Monthly Meditation Circle
DESCRIPTION:Monthly Meditation Circle for members of Self Realization Fellowship
URL:https://www.yogaflowlifestyle.com/event/monthly-meditation-circle-3/
LOCATION:Yoga Flow Lifestyle Center\, 7015 Grevilla Avenue South\, South Pasadena\, FL\, 33707\, United States
END:VEVENT
BEGIN:VEVENT
DTSTART;TZID=America/New_York:20160827T150000
DTEND;TZID=America/New_York:20160827T170000
DTSTAMP:20260419T125843
CREATED:20160715T141753Z
LAST-MODIFIED:20160715T141753Z
UID:1101-1472310000-1472317200@www.yogaflowlifestyle.com
SUMMARY:Aromatherapy for Yogis: Anti-Aging and Rejuvenation with Essential Oils
DESCRIPTION:  \n  \nThe anti-aging and rejuvenative properties of essential oils have been recognized by advanced cultures since ancient times.  For over 5000 years\, ayurvedic healers and yogis used these precious substances to sanctify their environment\, beautify their bodies and to promote health\, well being and longevity.  In this workshop\, you will learn: \n  \n\nBrief history of essential oils from ancient times to the present\nThe role of ayurveda\, the medicine of yoga\, and your metabolic body type (dosha) \nThe therapeutic uses of essential oils\, blending instructions and simple recipes\nHow to choose the correct essential oils for your therapeutic needs and body type\nThe rejuvenative benefits of ayurvedic massage \nThe etheric energies of essential oils and how they can awaken the chakras\nHow the combination of earth’s minerals (crystals\, stones) and essential oils work synergistically to balance your chakras and dosha\nHand and foot reflexology techniques to use on yourself and your students\n\n  \nThe fee is only $35.00\, which includes lots of handouts and samples! Yoga Flow Essential Oils will be available for sale after the workshop. \n  \nThis class qualifies for 2 CEUs for Yoga Alliance Teachers \n  \nSusan Wasserman\, CAP\, RYT500\, has practiced yoga for over 23 years. and offers private sessions in yoga\, ayurveda and aromatherapy at her home studio in South Pasadena.  She has certifications in ayurvedic clinical consulting\, yoga therapy and aromatherapy.  She is the director of Suncoast Yoga Teachers Association\, and president of Yoga Flow Inc.
URL:https://www.yogaflowlifestyle.com/event/aromatherapy-for-yogis-anti-aging-and-rejuvenation-with-essential-oils/
LOCATION:Wendy Fit Yoga & Pilates\, 3438 East Lake Road\, Suite 19\, Palm Harbor\, FL\, 34685\, United States
END:VEVENT
BEGIN:VEVENT
DTSTART;TZID=America/New_York:20160609T190000
DTEND;TZID=America/New_York:20160609T203000
DTSTAMP:20260419T125843
CREATED:20160531T173702Z
LAST-MODIFIED:20160531T173702Z
UID:1092-1465498800-1465504200@www.yogaflowlifestyle.com
SUMMARY:Monthly Meditation Circle
DESCRIPTION:For members of Self Realization Fellowship
URL:https://www.yogaflowlifestyle.com/event/monthly-meditation-circle-2/
LOCATION:Yoga Flow Lifestyle Center\, 7015 Grevilla Avenue South\, South Pasadena\, FL\, 33707\, United States
END:VEVENT
BEGIN:VEVENT
DTSTART;TZID=America/New_York:20160512T190000
DTEND;TZID=America/New_York:20160512T203000
DTSTAMP:20260419T125843
CREATED:20160505T191027Z
LAST-MODIFIED:20160505T191027Z
UID:1089-1463079600-1463085000@www.yogaflowlifestyle.com
SUMMARY:Monthly Meditation Circle
DESCRIPTION:Monthly Meditation Circle for members of Self Realization Fellowship.
URL:https://www.yogaflowlifestyle.com/event/monthly-meditation-circle/
LOCATION:Yoga Flow Lifestyle Center\, 7015 Grevilla Avenue South\, South Pasadena\, FL\, 33707\, United States
END:VEVENT
BEGIN:VEVENT
DTSTART;TZID=America/New_York:20160430T083000
DTEND;TZID=America/New_York:20160430T093000
DTSTAMP:20260419T125843
CREATED:20160303T181357Z
LAST-MODIFIED:20160403T182544Z
UID:1011-1462005000-1462008600@www.yogaflowlifestyle.com
SUMMARY:Class:  Yoga for Emotional Balance
DESCRIPTION:As part of the Nischala Joy Devi weekend workshop\, Susan Wasserman and Gwen Hanner will teach “Yoga for Emotional Balance”.  Go to www.suncoastyoga.org for more information\, cost and registration.
URL:https://www.yogaflowlifestyle.com/event/class-yoga-for-emotional-balance/
LOCATION:FL
END:VEVENT
BEGIN:VEVENT
DTSTART;TZID=America/New_York:20160423T140000
DTEND;TZID=America/New_York:20160423T170000
DTSTAMP:20260419T125843
CREATED:20160412T194112Z
LAST-MODIFIED:20160412T194112Z
UID:1083-1461420000-1461430800@www.yogaflowlifestyle.com
SUMMARY:Open House to Celebrate the Opening of Yoga Flow Lifestyle Center!
DESCRIPTION:Please Join Us \nfor an \nOpen House \nto celebrate the opening of \nYoga Flow Lifestyle Center \nOffering Individualized Instruction in the Art of Living Yoga \nComplementary Ayurvedic Mini-Consultations \nHouse Tours \nLite Refreshments \nYoga Flow Essential Oils & Teas for Sale! \n\nAt 5PM after the Open House is our first MOVIE NIGHT\, featuring Awake: The Life of Yogananda \nPLEASE RSVP only if you are attending. \nParking is in rear of house.
URL:https://www.yogaflowlifestyle.com/event/open-house-to-celebrate-the-opening-of-yoga-flow-lifestyle-center/
LOCATION:Yoga Flow Lifestyle Center\, 7015 Grevilla Avenue South\, South Pasadena\, FL\, 33707\, United States
ORGANIZER;CN="Susan Wasserman":MAILTO:yogaflowoils@gmail.com
END:VEVENT
BEGIN:VEVENT
DTSTART;TZID=America/New_York:20160414T070000
DTEND;TZID=America/New_York:20160414T200000
DTSTAMP:20260419T125843
CREATED:20160223T212613Z
LAST-MODIFIED:20160225T231224Z
UID:1003-1460617200-1460664000@www.yogaflowlifestyle.com
SUMMARY:Meditation Circle
DESCRIPTION:Monthly Meditation Circle for Members of Self Realization Fellowship
URL:https://www.yogaflowlifestyle.com/event/meditation-circle-3/
LOCATION:FL
END:VEVENT
BEGIN:VEVENT
DTSTART;TZID=America/New_York:20160310T190000
DTEND;TZID=America/New_York:20160310T200000
DTSTAMP:20260419T125843
CREATED:20160223T210831Z
LAST-MODIFIED:20160225T231322Z
UID:997-1457636400-1457640000@www.yogaflowlifestyle.com
SUMMARY:Meditation Circle
DESCRIPTION:Monthly Meditation Circle for Members of Self Realization Fellowship
URL:https://www.yogaflowlifestyle.com/event/meditation-circle-2/
LOCATION:Monthly Meditation Circle for Self Realization Fellowship\, 7015  Grevilla Avenue S  33707\, South Pasadena\, FL\, 33707\, United States
END:VEVENT
END:VCALENDAR