BEGIN:VCALENDAR
VERSION:2.0
PRODID:-//Yoga Flow Lifestyle Center - ECPv6.15.20//NONSGML v1.0//EN
CALSCALE:GREGORIAN
METHOD:PUBLISH
X-ORIGINAL-URL:https://www.yogaflowlifestyle.com
X-WR-CALDESC:Events for Yoga Flow Lifestyle Center
REFRESH-INTERVAL;VALUE=DURATION:PT1H
X-Robots-Tag:noindex
X-PUBLISHED-TTL:PT1H
BEGIN:VTIMEZONE
TZID:America/New_York
BEGIN:DAYLIGHT
TZOFFSETFROM:-0500
TZOFFSETTO:-0400
TZNAME:EDT
DTSTART:20160313T070000
END:DAYLIGHT
BEGIN:STANDARD
TZOFFSETFROM:-0400
TZOFFSETTO:-0500
TZNAME:EST
DTSTART:20161106T060000
END:STANDARD
BEGIN:DAYLIGHT
TZOFFSETFROM:-0500
TZOFFSETTO:-0400
TZNAME:EDT
DTSTART:20170312T070000
END:DAYLIGHT
BEGIN:STANDARD
TZOFFSETFROM:-0400
TZOFFSETTO:-0500
TZNAME:EST
DTSTART:20171105T060000
END:STANDARD
BEGIN:DAYLIGHT
TZOFFSETFROM:-0500
TZOFFSETTO:-0400
TZNAME:EDT
DTSTART:20180311T070000
END:DAYLIGHT
BEGIN:STANDARD
TZOFFSETFROM:-0400
TZOFFSETTO:-0500
TZNAME:EST
DTSTART:20181104T060000
END:STANDARD
END:VTIMEZONE
BEGIN:VEVENT
DTSTART;TZID=America/New_York:20170930T160000
DTEND;TZID=America/New_York:20170930T180000
DTSTAMP:20260419T161831
CREATED:20170907T183259Z
LAST-MODIFIED:20170907T184240Z
UID:1126-1506787200-1506794400@www.yogaflowlifestyle.com
SUMMARY:Aromatherapy for Yogis:  Anti Aging & Rejuvenation with Essential Oils
DESCRIPTION:The anti-aging and rejuvenative properties of essential oils have been recognized by advanced cultures since ancient times.  For over 5000 years\, ayurvedic healers and yogis used these precious substances to sanctify their environment\, beautify their bodies and to promote health\, well being and longevity.  In this workshop\, you will learn: \n  \n\nBrief history of essential oils from ancient times to the present\nThe role of ayurveda\, the medicine of yoga\, and your metabolic body type (dosha)\nThe therapeutic uses of essential oils\, blending instructions and simple recipes\nHow to choose the correct essential oils for your therapeutic needs and body type\nThe rejuvenative benefits of ayurvedic massage\nThe etheric energies of essential oils and how they can awaken the chakras\nHow the combination of earth’s minerals (crystals\, stones) and essential oils work synergistically to balance your chakras and dosha\nHand and foot reflexology techniques to use on yourself and your students\n\n  \nThe fee is only $30.00\, $35.00 at the door\, which includes lots of handouts and samples! Yoga Flow Essential Oils will be available for sale after the workshop. \n  \nThis class qualifies for 2 CEUs for Yoga Alliance Teachers \n  \nSusan Wasserman\, CAP\, RYT500\, has practiced yoga for over 23 years. and offers private sessions in yoga\, ayurveda and aromatherapy at her home studio in South Pasadena.  She has certifications in ayurvedic clinical consulting\, yoga therapy and aromatherapy.  She is the director of Florida Yoga Teachers Association\, and president of Yoga Flow Inc. \n  \n 
URL:https://www.yogaflowlifestyle.com/event/aromatherapy-for-yogis-anti-aging-rejuvenation-with-essential-oils/
LOCATION:Wendy Fit Yoga & Pilates\, 3438 East Lake Road\, Suite 19\, Palm Harbor\, FL\, 34685\, United States
CATEGORIES:aromatherapy,ayruveda
END:VEVENT
END:VCALENDAR